Package: oncoscanR Version: 1.11.1 Command: /home/biocbuild/R/R/bin/R CMD INSTALL oncoscanR StartedAt: 2025-10-23 20:35:18 -0000 (Thu, 23 Oct 2025) EndedAt: 2025-10-23 20:35:33 -0000 (Thu, 23 Oct 2025) EllapsedTime: 14.1 seconds RetCode: 0 Status: OK