Package: oncoscanR Version: 1.13.0 Command: /home/biocbuild/bbs-3.23-bioc/R/bin/R CMD build --keep-empty-dirs --no-resave-data oncoscanR StartedAt: 2025-11-06 18:59:58 -0500 (Thu, 06 Nov 2025) EndedAt: 2025-11-06 19:02:38 -0500 (Thu, 06 Nov 2025) EllapsedTime: 160.2 seconds RetCode: 0 Status: OK PackageFile: oncoscanR_1.13.0.tar.gz PackageFileSize: 990.2 KiB