Package: oncoscanR Version: 1.11.1 Command: /Library/Frameworks/R.framework/Resources/bin/R CMD build --keep-empty-dirs --no-resave-data oncoscanR StartedAt: 2025-10-14 18:28:24 -0400 (Tue, 14 Oct 2025) EndedAt: 2025-10-14 18:31:30 -0400 (Tue, 14 Oct 2025) EllapsedTime: 185.7 seconds RetCode: 0 Status: OK PackageFile: oncoscanR_1.11.1.tar.gz PackageFileSize: 990.1 KiB