Package: oncoscanR Version: 1.11.1 Command: rm -rf oncoscanR.buildbin-libdir && mkdir oncoscanR.buildbin-libdir && /Users/biocbuild/BBS/utils/build-universal.sh oncoscanR_1.11.1.tar.gz /Library/Frameworks/R.framework/Resources/bin/R oncoscanR.buildbin-libdir StartedAt: 2025-10-15 02:58:38 -0400 (Wed, 15 Oct 2025) EndedAt: 2025-10-15 02:58:57 -0400 (Wed, 15 Oct 2025) EllapsedTime: 19.6 seconds RetCode: 0 Status: OK PackageFile: oncoscanR_1.11.1.tgz PackageFileSize: 1.045 MiB