Package: oncoscanR Version: 1.13.0 Maintainer: Yann Christinat MaintainerEmail: yann.christinat at hcuge.ch git_url: https://git.bioconductor.org/packages/oncoscanR git_branch: devel git_last_commit: 1b56ce7 git_last_commit_date: 2025-10-29 11:18:05 -0500 (Wed, 29 Oct 2025)