Package: oncomix Version: 1.31.0 Command: /home/biocbuild/bbs-3.22-bioc/R/bin/R CMD check --install=check:oncomix.install-out.txt --library=/home/biocbuild/bbs-3.22-bioc/R/site-library --timings oncomix_1.31.0.tar.gz StartedAt: 2025-10-25 02:22:16 -0400 (Sat, 25 Oct 2025) EndedAt: 2025-10-25 02:25:24 -0400 (Sat, 25 Oct 2025) EllapsedTime: 188.2 seconds RetCode: 0 Status: OK CheckDir: oncomix.Rcheck Warnings: 0