Package: oncomix Version: 1.33.0 Command: /home/biocbuild/bbs-3.23-bioc/R/bin/R CMD build --keep-empty-dirs --no-resave-data oncomix StartedAt: 2025-11-20 19:05:31 -0500 (Thu, 20 Nov 2025) EndedAt: 2025-11-20 19:06:15 -0500 (Thu, 20 Nov 2025) EllapsedTime: 44.0 seconds RetCode: 0 Status: OK PackageFile: oncomix_1.33.0.tar.gz PackageFileSize: 2.395 MiB