Package: oncomix Version: 1.31.0 Command: /Library/Frameworks/R.framework/Resources/bin/R CMD INSTALL oncomix StartedAt: 2025-09-30 15:28:56 -0400 (Tue, 30 Sep 2025) EndedAt: 2025-09-30 15:29:40 -0400 (Tue, 30 Sep 2025) EllapsedTime: 43.2 seconds RetCode: 0 Status: OK