Package: oncomix Version: 1.31.0 Command: /Library/Frameworks/R.framework/Resources/bin/R CMD build --keep-empty-dirs --no-resave-data oncomix StartedAt: 2025-09-30 18:07:00 -0400 (Tue, 30 Sep 2025) EndedAt: 2025-09-30 18:07:53 -0400 (Tue, 30 Sep 2025) EllapsedTime: 52.4 seconds RetCode: 0 Status: OK PackageFile: oncomix_1.31.0.tar.gz PackageFileSize: 2.43 MiB