Package: ompBAM Version: 1.13.0 Command: chmod a+r ompBAM -R && F:\biocbuild\bbs-3.22-bioc\R\bin\R.exe CMD build --keep-empty-dirs --no-resave-data ompBAM StartedAt: 2025-08-14 22:00:07 -0400 (Thu, 14 Aug 2025) EndedAt: 2025-08-14 22:01:17 -0400 (Thu, 14 Aug 2025) EllapsedTime: 70.6 seconds RetCode: 0 Status: OK PackageFile: ompBAM_1.13.0.tar.gz PackageFileSize: 3.142 MiB