Package: ompBAM Version: 1.13.0 Command: rm -rf ompBAM.buildbin-libdir && mkdir ompBAM.buildbin-libdir && F:\biocbuild\bbs-3.22-bioc\R\bin\R.exe CMD INSTALL --build --library=ompBAM.buildbin-libdir ompBAM_1.13.0.tar.gz StartedAt: 2025-08-15 10:52:51 -0400 (Fri, 15 Aug 2025) EndedAt: 2025-08-15 10:53:07 -0400 (Fri, 15 Aug 2025) EllapsedTime: 16.2 seconds RetCode: 0 Status: OK PackageFile: ompBAM_1.13.0.zip PackageFileSize: 3.157 MiB