Package: ompBAM Version: 1.15.0 Command: /home/biocbuild/bbs-3.23-bioc/R/bin/R CMD check --install=check:ompBAM.install-out.txt --library=/home/biocbuild/bbs-3.23-bioc/R/site-library --timings ompBAM_1.15.0.tar.gz StartedAt: 2025-11-06 02:08:46 -0500 (Thu, 06 Nov 2025) EndedAt: 2025-11-06 02:09:31 -0500 (Thu, 06 Nov 2025) EllapsedTime: 45.0 seconds RetCode: 0 Status: OK CheckDir: ompBAM.Rcheck Warnings: 0