Package: omicsViewer Version: 1.13.0 Command: /home/biocbuild/R/R/bin/R CMD INSTALL omicsViewer StartedAt: 2025-09-29 20:58:07 -0000 (Mon, 29 Sep 2025) EndedAt: 2025-09-29 20:58:54 -0000 (Mon, 29 Sep 2025) EllapsedTime: 47.2 seconds RetCode: 0 Status: OK