Package: omicsViewer Version: 1.13.0 Command: /home/biocbuild/R/R/bin/R CMD build --keep-empty-dirs --no-resave-data omicsViewer StartedAt: 2025-09-30 01:58:48 -0000 (Tue, 30 Sep 2025) EndedAt: 2025-09-30 02:00:38 -0000 (Tue, 30 Sep 2025) EllapsedTime: 110.0 seconds RetCode: 0 Status: OK PackageFile: omicsViewer_1.13.0.tar.gz PackageFileSize: 4.387 MiB