Package: omicsViewer Version: 1.13.0 Command: chmod a+r omicsViewer -R && F:\biocbuild\bbs-3.22-bioc\R\bin\R.exe CMD build --keep-empty-dirs --no-resave-data omicsViewer StartedAt: 2025-08-14 21:59:54 -0400 (Thu, 14 Aug 2025) EndedAt: 2025-08-14 22:01:31 -0400 (Thu, 14 Aug 2025) EllapsedTime: 97.6 seconds RetCode: 0 Status: OK PackageFile: omicsViewer_1.13.0.tar.gz PackageFileSize: 4.326 MiB