Package: omicsViewer Version: 1.13.0 Command: rm -rf omicsViewer.buildbin-libdir && mkdir omicsViewer.buildbin-libdir && F:\biocbuild\bbs-3.22-bioc\R\bin\R.exe CMD INSTALL --build --library=omicsViewer.buildbin-libdir omicsViewer_1.13.0.tar.gz StartedAt: 2025-08-15 10:52:45 -0400 (Fri, 15 Aug 2025) EndedAt: 2025-08-15 10:54:31 -0400 (Fri, 15 Aug 2025) EllapsedTime: 105.7 seconds RetCode: 0 Status: OK PackageFile: omicsViewer_1.13.0.zip PackageFileSize: 4.361 MiB