Package: omicsViewer Version: 1.15.0 Command: /home/biocbuild/bbs-3.23-bioc/R/bin/R CMD INSTALL omicsViewer StartedAt: 2025-11-20 15:24:57 -0500 (Thu, 20 Nov 2025) EndedAt: 2025-11-20 15:25:31 -0500 (Thu, 20 Nov 2025) EllapsedTime: 34.2 seconds RetCode: 0 Status: OK