Package: omicsViewer Version: 1.15.0 Command: /home/biocbuild/bbs-3.23-bioc/R/bin/R CMD check --install=check:omicsViewer.install-out.txt --library=/home/biocbuild/bbs-3.23-bioc/R/site-library --timings omicsViewer_1.15.0.tar.gz StartedAt: 2025-11-21 02:12:55 -0500 (Fri, 21 Nov 2025) EndedAt: 2025-11-21 02:18:25 -0500 (Fri, 21 Nov 2025) EllapsedTime: 330.4 seconds RetCode: 0 Status: WARNINGS CheckDir: omicsViewer.Rcheck Warnings: 1