Package: omicsPrint Version: 1.31.0 Command: /home/biocbuild/bbs-3.23-bioc/R/bin/R CMD INSTALL omicsPrint StartedAt: 2025-11-20 15:20:04 -0500 (Thu, 20 Nov 2025) EndedAt: 2025-11-20 15:20:30 -0500 (Thu, 20 Nov 2025) EllapsedTime: 25.3 seconds RetCode: 0 Status: OK