Package: omicsPrint Version: 1.31.0 Command: /home/biocbuild/bbs-3.23-bioc/R/bin/R CMD build --keep-empty-dirs --no-resave-data omicsPrint StartedAt: 2025-11-20 19:04:22 -0500 (Thu, 20 Nov 2025) EndedAt: 2025-11-20 19:05:22 -0500 (Thu, 20 Nov 2025) EllapsedTime: 60.0 seconds RetCode: 0 Status: OK PackageFile: omicsPrint_1.31.0.tar.gz PackageFileSize: 4.294 MiB