Package: omicsPrint Version: 1.29.0 Command: /Library/Frameworks/R.framework/Resources/bin/R CMD INSTALL omicsPrint StartedAt: 2025-10-22 15:21:36 -0400 (Wed, 22 Oct 2025) EndedAt: 2025-10-22 15:22:09 -0400 (Wed, 22 Oct 2025) EllapsedTime: 33.5 seconds RetCode: 0 Status: OK