Package: omicsPrint Version: 1.29.0 Command: /Library/Frameworks/R.framework/Resources/bin/R CMD build --keep-empty-dirs --no-resave-data omicsPrint StartedAt: 2025-10-22 18:00:41 -0400 (Wed, 22 Oct 2025) EndedAt: 2025-10-22 18:01:47 -0400 (Wed, 22 Oct 2025) EllapsedTime: 66.1 seconds RetCode: 0 Status: OK PackageFile: omicsPrint_1.29.0.tar.gz PackageFileSize: 4.338 MiB