Package: omicsPrint Version: 1.29.0 Command: /Library/Frameworks/R.framework/Resources/bin/R CMD INSTALL omicsPrint StartedAt: 2025-10-03 15:13:22 -0400 (Fri, 03 Oct 2025) EndedAt: 2025-10-03 15:13:33 -0400 (Fri, 03 Oct 2025) EllapsedTime: 10.5 seconds RetCode: 0 Status: OK