Package: omicsPrint Version: 1.29.0 Command: /Library/Frameworks/R.framework/Resources/bin/R CMD build --keep-empty-dirs --no-resave-data omicsPrint StartedAt: 2025-10-03 17:13:56 -0400 (Fri, 03 Oct 2025) EndedAt: 2025-10-03 17:14:24 -0400 (Fri, 03 Oct 2025) EllapsedTime: 28.3 seconds RetCode: 0 Status: OK PackageFile: omicsPrint_1.29.0.tar.gz PackageFileSize: 4.339 MiB