Package: omicsPrint Version: 1.29.0 Command: rm -rf omicsPrint.buildbin-libdir && mkdir omicsPrint.buildbin-libdir && /Users/biocbuild/BBS/utils/build-universal.sh omicsPrint_1.29.0.tar.gz /Library/Frameworks/R.framework/Resources/bin/R omicsPrint.buildbin-libdir StartedAt: 2025-10-03 22:49:13 -0400 (Fri, 03 Oct 2025) EndedAt: 2025-10-03 22:49:26 -0400 (Fri, 03 Oct 2025) EllapsedTime: 12.3 seconds RetCode: 0 Status: OK PackageFile: omicsPrint_1.29.0.tgz PackageFileSize: 7.42 MiB