Package: omicsGMF Version: 0.99.7 Command: /home/biocbuild/bbs-3.22-bioc/R/bin/R CMD INSTALL omicsGMF StartedAt: 2025-10-28 15:54:48 -0400 (Tue, 28 Oct 2025) EndedAt: 2025-10-28 15:55:25 -0400 (Tue, 28 Oct 2025) EllapsedTime: 36.6 seconds RetCode: 0 Status: OK