Package: omicsGMF Version: 1.1.0 Command: /home/biocbuild/bbs-3.23-bioc/R/bin/R CMD INSTALL omicsGMF StartedAt: 2025-11-19 15:57:01 -0500 (Wed, 19 Nov 2025) EndedAt: 2025-11-19 15:57:35 -0500 (Wed, 19 Nov 2025) EllapsedTime: 33.5 seconds RetCode: 0 Status: OK