Package: omicsGMF Version: 1.1.0 Command: /home/biocbuild/bbs-3.23-bioc/R/bin/R CMD build --keep-empty-dirs --no-resave-data omicsGMF StartedAt: 2025-11-19 19:07:07 -0500 (Wed, 19 Nov 2025) EndedAt: 2025-11-19 19:08:30 -0500 (Wed, 19 Nov 2025) EllapsedTime: 83.1 seconds RetCode: 0 Status: OK PackageFile: omicsGMF_1.1.0.tar.gz PackageFileSize: 685.8 KiB