Package: omicsGMF Version: 0.99.7 Command: /Library/Frameworks/R.framework/Resources/bin/R CMD INSTALL omicsGMF StartedAt: 2025-10-28 15:29:29 -0400 (Tue, 28 Oct 2025) EndedAt: 2025-10-28 15:29:42 -0400 (Tue, 28 Oct 2025) EllapsedTime: 13.3 seconds RetCode: 0 Status: OK