Package: omicsGMF Version: 1.1.0 Maintainer: Alexandre Segers MaintainerEmail: alexandresegers at outlook.com git_url: https://git.bioconductor.org/packages/omicsGMF git_branch: devel git_last_commit: 66f9d2d git_last_commit_date: 2025-10-29 11:39:15 -0500 (Wed, 29 Oct 2025)