Package: omicplotR Version: 1.31.0 Command: /home/biocbuild/bbs-3.23-bioc/R/bin/R CMD INSTALL omicplotR StartedAt: 2025-11-20 15:34:09 -0500 (Thu, 20 Nov 2025) EndedAt: 2025-11-20 15:34:32 -0500 (Thu, 20 Nov 2025) EllapsedTime: 23.3 seconds RetCode: 0 Status: OK