Package: omicplotR Version: 1.31.0 Command: /home/biocbuild/bbs-3.23-bioc/R/bin/R CMD check --install=check:omicplotR.install-out.txt --library=/home/biocbuild/bbs-3.23-bioc/R/site-library --timings omicplotR_1.31.0.tar.gz StartedAt: 2025-11-21 02:11:57 -0500 (Fri, 21 Nov 2025) EndedAt: 2025-11-21 02:13:37 -0500 (Fri, 21 Nov 2025) EllapsedTime: 100.1 seconds RetCode: 0 Status: OK CheckDir: omicplotR.Rcheck Warnings: 0