Package: omicade4 Version: 1.49.0 Command: /home/biocbuild/R/R/bin/R CMD INSTALL omicade4 StartedAt: 2025-10-13 20:54:22 -0000 (Mon, 13 Oct 2025) EndedAt: 2025-10-13 20:54:50 -0000 (Mon, 13 Oct 2025) EllapsedTime: 27.2 seconds RetCode: 0 Status: OK