Package: omicade4 Version: 1.49.0 Command: /home/biocbuild/R/R/bin/R CMD build --keep-empty-dirs --no-resave-data omicade4 StartedAt: 2025-10-14 02:17:23 -0000 (Tue, 14 Oct 2025) EndedAt: 2025-10-14 02:18:05 -0000 (Tue, 14 Oct 2025) EllapsedTime: 42.0 seconds RetCode: 0 Status: OK PackageFile: omicade4_1.49.0.tar.gz PackageFileSize: 537.2 KiB