Package: omicade4 Version: 1.49.0 Command: rm -rf omicade4.buildbin-libdir && mkdir omicade4.buildbin-libdir && F:\biocbuild\bbs-3.22-bioc\R\bin\R.exe CMD INSTALL --build --library=omicade4.buildbin-libdir omicade4_1.49.0.tar.gz StartedAt: 2025-08-15 10:52:27 -0400 (Fri, 15 Aug 2025) EndedAt: 2025-08-15 10:52:57 -0400 (Fri, 15 Aug 2025) EllapsedTime: 30.5 seconds RetCode: 0 Status: OK PackageFile: omicade4_1.49.0.zip PackageFileSize: 616.9 KiB