Package: omicade4 Version: 1.51.0 Command: /home/biocbuild/bbs-3.23-bioc/R/bin/R CMD check --install=check:omicade4.install-out.txt --library=/home/biocbuild/bbs-3.23-bioc/R/site-library --timings omicade4_1.51.0.tar.gz StartedAt: 2025-11-22 02:10:51 -0500 (Sat, 22 Nov 2025) EndedAt: 2025-11-22 02:13:38 -0500 (Sat, 22 Nov 2025) EllapsedTime: 167.2 seconds RetCode: 0 Status: OK CheckDir: omicade4.Rcheck Warnings: 0