Package: omicRexposome Version: 1.31.0 Command: /Library/Frameworks/R.framework/Resources/bin/R CMD INSTALL omicRexposome StartedAt: 2025-10-21 15:29:43 -0400 (Tue, 21 Oct 2025) EndedAt: 2025-10-21 15:30:48 -0400 (Tue, 21 Oct 2025) EllapsedTime: 64.3 seconds RetCode: 0 Status: OK