Package: omicRexposome Version: 1.31.0 Command: /Library/Frameworks/R.framework/Resources/bin/R CMD build --keep-empty-dirs --no-resave-data omicRexposome StartedAt: 2025-10-21 18:39:57 -0400 (Tue, 21 Oct 2025) EndedAt: 2025-10-21 19:04:05 -0400 (Tue, 21 Oct 2025) EllapsedTime: 1448.6 seconds RetCode: 0 Status: OK PackageFile: omicRexposome_1.31.0.tar.gz PackageFileSize: 2.59 MiB