Package: omicRexposome Version: 1.31.0 Command: /Library/Frameworks/R.framework/Resources/bin/R CMD build --keep-empty-dirs --no-resave-data omicRexposome StartedAt: 2025-10-14 17:14:42 -0400 (Tue, 14 Oct 2025) EndedAt: 2025-10-14 17:18:40 -0400 (Tue, 14 Oct 2025) EllapsedTime: 238.4 seconds RetCode: 0 Status: OK PackageFile: omicRexposome_1.31.0.tar.gz PackageFileSize: 2.605 MiB