Package: omada Version: 1.13.0 Command: /home/biocbuild/bbs-3.23-bioc/R/bin/R CMD INSTALL omada StartedAt: 2025-11-20 15:10:55 -0500 (Thu, 20 Nov 2025) EndedAt: 2025-11-20 15:11:08 -0500 (Thu, 20 Nov 2025) EllapsedTime: 12.8 seconds RetCode: 0 Status: OK