Package: omada Version: 1.13.0 Command: /home/biocbuild/bbs-3.23-bioc/R/bin/R CMD build --keep-empty-dirs --no-resave-data omada StartedAt: 2025-11-20 19:03:38 -0500 (Thu, 20 Nov 2025) EndedAt: 2025-11-20 19:05:31 -0500 (Thu, 20 Nov 2025) EllapsedTime: 113.1 seconds RetCode: 0 Status: OK PackageFile: omada_1.13.0.tar.gz PackageFileSize: 176.3 KiB