Package: omada Version: 1.11.0 Command: /Library/Frameworks/R.framework/Resources/bin/R CMD INSTALL omada StartedAt: 2025-10-23 15:13:40 -0400 (Thu, 23 Oct 2025) EndedAt: 2025-10-23 15:14:00 -0400 (Thu, 23 Oct 2025) EllapsedTime: 19.8 seconds RetCode: 0 Status: OK