Package: omada Version: 1.11.0 Command: /Library/Frameworks/R.framework/Resources/bin/R CMD build --keep-empty-dirs --no-resave-data omada StartedAt: 2025-10-23 17:59:52 -0400 (Thu, 23 Oct 2025) EndedAt: 2025-10-23 18:01:51 -0400 (Thu, 23 Oct 2025) EllapsedTime: 118.8 seconds RetCode: 0 Status: OK PackageFile: omada_1.11.0.tar.gz PackageFileSize: 203.1 KiB