Package: omada Version: 1.11.0 Command: /Library/Frameworks/R.framework/Resources/bin/R CMD build --keep-empty-dirs --no-resave-data omada StartedAt: 2025-10-03 17:13:39 -0400 (Fri, 03 Oct 2025) EndedAt: 2025-10-03 17:14:25 -0400 (Fri, 03 Oct 2025) EllapsedTime: 46.6 seconds RetCode: 0 Status: OK PackageFile: omada_1.11.0.tar.gz PackageFileSize: 204.1 KiB