Package: omXplore Version: 1.5.0 Command: /home/biocbuild/bbs-3.23-bioc/R/bin/R CMD INSTALL omXplore StartedAt: 2025-11-20 15:37:57 -0500 (Thu, 20 Nov 2025) EndedAt: 2025-11-20 15:38:41 -0500 (Thu, 20 Nov 2025) EllapsedTime: 43.6 seconds RetCode: 0 Status: OK