Package: omXplore Version: 1.5.0 Command: /home/biocbuild/bbs-3.23-bioc/R/bin/R CMD build --keep-empty-dirs --no-resave-data omXplore StartedAt: 2025-11-20 19:05:23 -0500 (Thu, 20 Nov 2025) EndedAt: 2025-11-20 19:06:23 -0500 (Thu, 20 Nov 2025) EllapsedTime: 60.1 seconds RetCode: 0 Status: OK PackageFile: omXplore_1.5.0.tar.gz PackageFileSize: 2.013 MiB