Package: omXplore Version: 1.3.1 Command: /Library/Frameworks/R.framework/Resources/bin/R CMD INSTALL omXplore StartedAt: 2025-10-24 15:26:37 -0400 (Fri, 24 Oct 2025) EndedAt: 2025-10-24 15:26:55 -0400 (Fri, 24 Oct 2025) EllapsedTime: 17.7 seconds RetCode: 0 Status: OK