Package: omXplore Version: 1.3.1 Command: /Library/Frameworks/R.framework/Resources/bin/R CMD build --keep-empty-dirs --no-resave-data omXplore StartedAt: 2025-10-26 17:26:06 -0400 (Sun, 26 Oct 2025) EndedAt: 2025-10-26 17:26:28 -0400 (Sun, 26 Oct 2025) EllapsedTime: 22.2 seconds RetCode: 0 Status: OK PackageFile: omXplore_1.3.1.tar.gz PackageFileSize: 2.013 MiB