Package: omXplore Version: 1.3.1 Command: rm -rf omXplore.buildbin-libdir && mkdir omXplore.buildbin-libdir && /Users/biocbuild/BBS/utils/build-universal.sh omXplore_1.3.1.tar.gz /Library/Frameworks/R.framework/Resources/bin/R omXplore.buildbin-libdir StartedAt: 2025-10-24 23:13:08 -0400 (Fri, 24 Oct 2025) EndedAt: 2025-10-24 23:13:27 -0400 (Fri, 24 Oct 2025) EllapsedTime: 19.4 seconds RetCode: 0 Status: OK PackageFile: omXplore_1.3.1.tgz PackageFileSize: 1.554 MiB