Package: oligoClasses Version: 1.71.0 Command: /home/biocbuild/R/R/bin/R CMD build --keep-empty-dirs --no-resave-data oligoClasses StartedAt: 2025-10-21 01:46:57 -0000 (Tue, 21 Oct 2025) EndedAt: 2025-10-21 01:46:59 -0000 (Tue, 21 Oct 2025) EllapsedTime: 2.0 seconds RetCode: 0 Status: OK PackageFile: oligoClasses_1.71.0.tar.gz PackageFileSize: 364.6 KiB